BEGIN:VCALENDAR
VERSION:2.0
PRODID:-//Engineering Outreach - ECPv6.15.0.1//NONSGML v1.0//EN
CALSCALE:GREGORIAN
METHOD:PUBLISH
X-ORIGINAL-URL:https://outreach.engineering.utoronto.ca
X-WR-CALDESC:Events for Engineering Outreach
REFRESH-INTERVAL;VALUE=DURATION:PT1H
X-Robots-Tag:noindex
X-PUBLISHED-TTL:PT1H
BEGIN:VTIMEZONE
TZID:America/Toronto
BEGIN:DAYLIGHT
TZOFFSETFROM:-0500
TZOFFSETTO:-0400
TZNAME:EDT
DTSTART:20250309T070000
END:DAYLIGHT
BEGIN:STANDARD
TZOFFSETFROM:-0400
TZOFFSETTO:-0500
TZNAME:EST
DTSTART:20251102T060000
END:STANDARD
END:VTIMEZONE
BEGIN:VEVENT
DTSTART;TZID=America/Toronto:20250924T200000
DTEND;TZID=America/Toronto:20250924T210000
DTSTAMP:20260422T183151
CREATED:20250918T203647Z
LAST-MODIFIED:20250918T204005Z
UID:10000371-1758744000-1758747600@outreach.engineering.utoronto.ca
SUMMARY:Introduction to U of T Engineering
DESCRIPTION:Introduction to U of T Engineering\nGrade 9–12 | Free \nOffered multiple times from September–December \nJoin U of T Engineering Recruitment staff for this special online presentation designed for high school students and their families to learn more about studying engineering at the University of Toronto. The session begins with a 30-minute overview of our programs\, academic requirements\, student opportunities\, and community. Afterwards\, an Engineering Recruitment Officer will host a live Q&A\, answering your questions about the application process and what it’s like to be part of U of T Engineering. \nREGISTER FOR INTRODUCTION TO U OF T ENGINEERING \nIf you have questions about this event\, please email the Engineering Recruitment team at engineering@utoronto.ca.
URL:https://outreach.engineering.utoronto.ca/event/introduction-to-u-of-t-engineering/2025-09-24/
CATEGORIES:Engineering Recruitment Events
END:VEVENT
END:VCALENDAR