BEGIN:VCALENDAR
VERSION:2.0
PRODID:-//Engineering Outreach - ECPv6.15.0.1//NONSGML v1.0//EN
CALSCALE:GREGORIAN
METHOD:PUBLISH
X-ORIGINAL-URL:https://outreach.engineering.utoronto.ca
X-WR-CALDESC:Events for Engineering Outreach
REFRESH-INTERVAL;VALUE=DURATION:PT1H
X-Robots-Tag:noindex
X-PUBLISHED-TTL:PT1H
BEGIN:VTIMEZONE
TZID:America/Toronto
BEGIN:DAYLIGHT
TZOFFSETFROM:-0500
TZOFFSETTO:-0400
TZNAME:EDT
DTSTART:20250309T070000
END:DAYLIGHT
BEGIN:STANDARD
TZOFFSETFROM:-0400
TZOFFSETTO:-0500
TZNAME:EST
DTSTART:20251102T060000
END:STANDARD
END:VTIMEZONE
BEGIN:VEVENT
DTSTART;TZID=America/Toronto:20251203T200000
DTEND;TZID=America/Toronto:20251203T210000
DTSTAMP:20260422T144850
CREATED:20250918T203647Z
LAST-MODIFIED:20250918T204005Z
UID:10000376-1764792000-1764795600@outreach.engineering.utoronto.ca
SUMMARY:Introduction to U of T Engineering
DESCRIPTION:Introduction to U of T Engineering\nGrade 9–12 | Free \nOffered multiple times from September–December \nJoin U of T Engineering Recruitment staff for this special online presentation designed for high school students and their families to learn more about studying engineering at the University of Toronto. The session begins with a 30-minute overview of our programs\, academic requirements\, student opportunities\, and community. Afterwards\, an Engineering Recruitment Officer will host a live Q&A\, answering your questions about the application process and what it’s like to be part of U of T Engineering. \nREGISTER FOR INTRODUCTION TO U OF T ENGINEERING \nIf you have questions about this event\, please email the Engineering Recruitment team at engineering@utoronto.ca.
URL:https://outreach.engineering.utoronto.ca/event/introduction-to-u-of-t-engineering/2025-12-03/
CATEGORIES:Engineering Recruitment Events
END:VEVENT
BEGIN:VEVENT
DTSTART;TZID=America/Toronto:20251210T200000
DTEND;TZID=America/Toronto:20251210T210000
DTSTAMP:20260422T144850
CREATED:20251201T172950Z
LAST-MODIFIED:20251201T172950Z
UID:10000432-1765396800-1765400400@outreach.engineering.utoronto.ca
SUMMARY:Engineering Industry Panel – Bioengineering
DESCRIPTION:Engineering Industry Panel – Bioengineering \n\nGrade 9–12 | Free \nWednesday\, December 10 at 8:00 PM EST\n\n\n\n\n\n\nCurious about bioengineering? Get an inside look at the projects\, challenges\, and possibilities that define this exciting and fast-growing field. \nIn this virtual session\, you’ll meet a current student and an alum who will share their journeys—from choosing bioengineering to discovering the kinds of real-world impact engineers can make. They’ll discuss the courses and experiences that shaped their paths\, what their day-to-day work looks like\, and the career opportunities that opened up through U of T Engineering. \nWhether you’re thinking about studying bioengineering or simply want to explore where engineering can take you\, this conversation will give you a clearer picture of the field—and the many ways you can make a difference.\n\n\n\n\n\n\nREGISTER FOR BIOENGINEERING INDUSTRY PANEL
URL:https://outreach.engineering.utoronto.ca/event/engineering-industry-panel-bioengineering/
CATEGORIES:Engineering Recruitment Events
END:VEVENT
BEGIN:VEVENT
DTSTART;TZID=America/Toronto:20251217T200000
DTEND;TZID=America/Toronto:20251217T210000
DTSTAMP:20260422T144850
CREATED:20250918T203647Z
LAST-MODIFIED:20250918T204005Z
UID:10000377-1766001600-1766005200@outreach.engineering.utoronto.ca
SUMMARY:Introduction to U of T Engineering
DESCRIPTION:Introduction to U of T Engineering\nGrade 9–12 | Free \nOffered multiple times from September–December \nJoin U of T Engineering Recruitment staff for this special online presentation designed for high school students and their families to learn more about studying engineering at the University of Toronto. The session begins with a 30-minute overview of our programs\, academic requirements\, student opportunities\, and community. Afterwards\, an Engineering Recruitment Officer will host a live Q&A\, answering your questions about the application process and what it’s like to be part of U of T Engineering. \nREGISTER FOR INTRODUCTION TO U OF T ENGINEERING \nIf you have questions about this event\, please email the Engineering Recruitment team at engineering@utoronto.ca.
URL:https://outreach.engineering.utoronto.ca/event/introduction-to-u-of-t-engineering/2025-12-17/
CATEGORIES:Engineering Recruitment Events
END:VEVENT
END:VCALENDAR